BEGIN:VCALENDAR
VERSION:2.0
PRODID:-//Library Market//iCal Export//EN
BEGIN:VEVENT
SUMMARY:Staff Meeting
UID:25424
DTSTAMP:20260425T180400Z
DTSTART:20260423T140000Z
DTEND:20260423T153000Z
LOCATION:Mt. Lebanon Public Library, 16 Castle Shannon Blvd, Pittsburgh, P
 A 15228, United States
ROOM: Learning Lab
DESCRIPTION:
URL:https://mtlebanon.librarycalendar.com/event/staff-meeting-25424
END:VEVENT
END:VCALENDAR
