BEGIN:VCALENDAR
VERSION:2.0
PRODID:-//Library Market//iCal Export//EN
BEGIN:VEVENT
SUMMARY:Literacy Pittsburgh
UID:25331
DTSTAMP:20260423T031200Z
DTSTART:20260609T160000Z
DTEND:20260609T190000Z
LOCATION:Mt. Lebanon Public Library, 16 Castle Shannon Blvd, Pittsburgh, P
 A 15228, United States
ROOM: Meeting Room B
DESCRIPTION:
URL:https://mtlebanon.librarycalendar.com/event/literacy-pittsburgh-25331
END:VEVENT
END:VCALENDAR
